BEGIN:VCALENDAR
VERSION:2.0
METHOD:PUBLISH
BEGIN:VEVENT
DTSTAMP:20260419T140232Z
DTSTART:20240304T223000Z
DTEND:20240304T233000Z
SUMMARY:Artful Antics (4 to 8 years)
LOCATION:265 Cannifton Road, Belleville, ON K8N 4V8
END:VEVENT
END:VCALENDAR
