BEGIN:VCALENDAR
VERSION:2.0
METHOD:PUBLISH
BEGIN:VEVENT
DTSTAMP:20260423T152445Z
DTSTART:20240304T183000Z
DTEND:20240304T193000Z
SUMMARY:Senior Gentle Fitness
LOCATION:265 Cannifton Road, Belleville, ON K8N 4V8
END:VEVENT
END:VCALENDAR
