BEGIN:VCALENDAR
VERSION:2.0
METHOD:PUBLISH
BEGIN:VEVENT
DTSTAMP:20260424T071016Z
DTSTART:20240301T200000Z
DTEND:20240301T210000Z
SUMMARY:Lane Swim
LOCATION:265 Cannifton Rd., Belleville, ON K8N 4V8
END:VEVENT
END:VCALENDAR
