BEGIN:VCALENDAR
VERSION:2.0
METHOD:PUBLISH
BEGIN:VEVENT
DTSTAMP:20260420T225339Z
DTSTART:20240301T161500Z
DTEND:20240301T170500Z
SUMMARY:Figure Skating Ticket Ice
LOCATION:265 Cannifton Road, Belleville, ON
END:VEVENT
END:VCALENDAR
