BEGIN:VCALENDAR
VERSION:2.0
METHOD:PUBLISH
BEGIN:VEVENT
DTSTAMP:20260420T201450Z
DTSTART:20240229T000000Z
DTEND:20240229T030000Z
SUMMARY:Belleville Senators vs. Utica Comets
LOCATION:265 Cannifton Road, Belleville, ON
END:VEVENT
END:VCALENDAR
