BEGIN:VCALENDAR
VERSION:2.0
METHOD:PUBLISH
BEGIN:VEVENT
DTSTAMP:20260419T164547Z
DTSTART:20240226T223000Z
DTEND:20240226T231500Z
SUMMARY:Jr. Soccer Skills &amp; Drills (4 to 8 years)
LOCATION:265 Cannifton Road, Belleville, ON K8N 4V8
END:VEVENT
END:VCALENDAR
