BEGIN:VCALENDAR
VERSION:2.0
METHOD:PUBLISH
BEGIN:VEVENT
DTSTAMP:20260425T223201Z
DTSTART:20240226T180000Z
DTEND:20240226T210000Z
SUMMARY:Bid Euchre
LOCATION:265 Cannifton Road, Belleville, ON K8N 4V8
END:VEVENT
END:VCALENDAR
