BEGIN:VCALENDAR
VERSION:2.0
METHOD:PUBLISH
BEGIN:VEVENT
DTSTAMP:20260421T013844Z
DTSTART:20240222T140000Z
DTEND:20240222T144500Z
SUMMARY:Women's Weight Training
LOCATION:265 Cannifton Road, Belleville, ON
END:VEVENT
END:VCALENDAR
