BEGIN:VCALENDAR
VERSION:2.0
METHOD:PUBLISH
BEGIN:VEVENT
DTSTAMP:20260423T032951Z
DTSTART:20240216T173000Z
DTEND:20240216T182000Z
SUMMARY:Figure Skating Ticket Ice
LOCATION:265 Cannifton Road, Belleville, ON
END:VEVENT
END:VCALENDAR
