BEGIN:VCALENDAR
VERSION:2.0
METHOD:PUBLISH
BEGIN:VEVENT
DTSTAMP:20260424T161115Z
DTSTART:20240213T231500Z
DTEND:20240214T001500Z
SUMMARY:Sporty Kids (6 to 9 Years)
LOCATION:265 Cannifton Road, Belleville, ON K8N 4V8
END:VEVENT
END:VCALENDAR
