BEGIN:VCALENDAR
VERSION:2.0
METHOD:PUBLISH
BEGIN:VEVENT
DTSTAMP:20260423T035737Z
DTSTART:20240212T223000Z
DTEND:20240212T233000Z
SUMMARY:Fit and Firm
LOCATION:265 Cannifton Road, Belleville, ON
END:VEVENT
END:VCALENDAR
