BEGIN:VCALENDAR
VERSION:2.0
METHOD:PUBLISH
BEGIN:VEVENT
DTSTAMP:20260419T224044Z
DTSTART:20240208T170000Z
DTEND:20240208T174500Z
SUMMARY:Public Swim (Therapy and Preschool Pool Only)
LOCATION:265 Cannifton Road, Belleville ON K8N 4V8
END:VEVENT
END:VCALENDAR
