BEGIN:VCALENDAR
VERSION:2.0
METHOD:PUBLISH
BEGIN:VEVENT
DTSTAMP:20260421T115813Z
DTSTART:20240208T134500Z
DTEND:20240208T144500Z
SUMMARY:Older Adult Flow Yoga
LOCATION:265 Cannifton Road, Belleville, ON K8N 4V8
END:VEVENT
END:VCALENDAR
