BEGIN:VCALENDAR
VERSION:2.0
METHOD:PUBLISH
BEGIN:VEVENT
DTSTAMP:20260423T021913Z
DTSTART:20240205T223000Z
DTEND:20240205T233000Z
SUMMARY:Fit and Firm
LOCATION:265 Cannifton Road, Belleville, ON
END:VEVENT
END:VCALENDAR
