BEGIN:VCALENDAR
VERSION:2.0
METHOD:PUBLISH
BEGIN:VEVENT
DTSTAMP:20260423T134907Z
DTSTART:20240205T183000Z
DTEND:20240205T193000Z
SUMMARY:Senior Gentle Fitness
LOCATION:265 Cannifton Road, Belleville, ON K8N 4V8
END:VEVENT
END:VCALENDAR
