BEGIN:VCALENDAR
VERSION:2.0
METHOD:PUBLISH
BEGIN:VEVENT
DTSTAMP:20260423T081530Z
DTSTART:20240203T210000Z
DTEND:20240203T230000Z
SUMMARY:Family/Youth Futsal
LOCATION:265 Cannifton Road, Belleville, ON K8N 4V8
END:VEVENT
END:VCALENDAR
