BEGIN:VCALENDAR
VERSION:2.0
METHOD:PUBLISH
BEGIN:VEVENT
DTSTAMP:20260424T040903Z
DTSTART:20240201T134500Z
DTEND:20240201T153000Z
SUMMARY:Pickleball - Intermediate
LOCATION:265 Cannifton Road, Belleville ON K8N 4V8
END:VEVENT
END:VCALENDAR
