BEGIN:VCALENDAR
VERSION:2.0
METHOD:PUBLISH
BEGIN:VEVENT
DTSTAMP:20260425T164738Z
DTSTART:20231214T161500Z
DTEND:20231214T171500Z
SUMMARY:Older Adult Yoga
LOCATION:265 Cannifton Road, Belleville, ON K8N 4V8
END:VEVENT
END:VCALENDAR
