BEGIN:VCALENDAR
VERSION:2.0
METHOD:PUBLISH
BEGIN:VEVENT
DTSTAMP:20260426T001321Z
DTSTART:20231214T150000Z
DTEND:20231214T160000Z
SUMMARY:Stretch and Strengthen
LOCATION:265 Cannifton Road, Belleville, ON K8N 4V8
END:VEVENT
END:VCALENDAR
