BEGIN:VCALENDAR
VERSION:2.0
METHOD:PUBLISH
BEGIN:VEVENT
DTSTAMP:20260425T162556Z
DTSTART:20231212T150000Z
DTEND:20231212T160000Z
SUMMARY:Mix It Up - 10:00 - 11:00 a.m.
LOCATION:265 Cannifton Road, Belleville, ON K8N 4V8
END:VEVENT
END:VCALENDAR
