BEGIN:VCALENDAR
VERSION:2.0
METHOD:PUBLISH
BEGIN:VEVENT
DTSTAMP:20260423T203631Z
DTSTART:20231208T181500Z
DTEND:20231208T200000Z
SUMMARY:Pickleball - Beginner
LOCATION:265 Cannifton Road, Belleville ON K8N 4V8
END:VEVENT
END:VCALENDAR
