BEGIN:VCALENDAR
VERSION:2.0
METHOD:PUBLISH
BEGIN:VEVENT
DTSTAMP:20260423T152304Z
DTSTART:20231208T171500Z
DTEND:20231208T180500Z
SUMMARY:Figure Skating Ticket Ice
LOCATION:265 Cannifton Road, Belleville, ON
END:VEVENT
END:VCALENDAR
