BEGIN:VCALENDAR
VERSION:2.0
METHOD:PUBLISH
BEGIN:VEVENT
DTSTAMP:20260424T030125Z
DTSTART:20231206T233000Z
DTEND:20231207T003000Z
SUMMARY:Line Dancing - Experienced
LOCATION:265 Cannifton Road, Belleville, ON
END:VEVENT
END:VCALENDAR
