BEGIN:VCALENDAR
VERSION:2.0
METHOD:PUBLISH
BEGIN:VEVENT
DTSTAMP:20260420T060710Z
DTSTART:20231206T221500Z
DTEND:20231207T000000Z
SUMMARY:Recreation Pickleball
LOCATION:265 Cannifton Road, Belleville ON K8N 4V8
END:VEVENT
END:VCALENDAR
