BEGIN:VCALENDAR
VERSION:2.0
METHOD:PUBLISH
BEGIN:VEVENT
DTSTAMP:20260424T015928Z
DTSTART:20231205T160000Z
DTEND:20231205T164500Z
SUMMARY:Sensory Time (18 months to 4 Years)
LOCATION:265 Cannifton Road, Belleville, ON K8N 4V8
END:VEVENT
END:VCALENDAR
