BEGIN:VCALENDAR
VERSION:2.0
METHOD:PUBLISH
BEGIN:VEVENT
DTSTAMP:20260424T060843Z
DTSTART:20231204T150000Z
DTEND:20231204T180000Z
SUMMARY:Deaf Seniors
LOCATION:265 Cannifton Road, Belleville, ON K8N 4V8
END:VEVENT
END:VCALENDAR
