BEGIN:VCALENDAR
VERSION:2.0
METHOD:PUBLISH
BEGIN:VEVENT
DTSTAMP:20260420T151313Z
DTSTART:20231129T203000Z
DTEND:20231129T214500Z
SUMMARY:Child and Youth Basketball (10 to 17 years)
LOCATION:265 Cannifton Road, Belleville, ON K8N 4V8
END:VEVENT
END:VCALENDAR
