BEGIN:VCALENDAR
VERSION:2.0
METHOD:PUBLISH
BEGIN:VEVENT
DTSTAMP:20260422T003828Z
DTSTART:20231127T151500Z
DTEND:20231127T161500Z
SUMMARY:Gentle Core Strengthening
LOCATION:265 Cannifton Road, Belleville, ON K8N 4V8
END:VEVENT
END:VCALENDAR
