BEGIN:VCALENDAR
VERSION:2.0
METHOD:PUBLISH
BEGIN:VEVENT
DTSTAMP:20260423T170540Z
DTSTART:20231124T173000Z
DTEND:20231124T182000Z
SUMMARY:Figure Skating Ticket Ice
LOCATION:265 Cannifton Road, Belleville, ON
END:VEVENT
END:VCALENDAR
