BEGIN:VCALENDAR
VERSION:2.0
METHOD:PUBLISH
BEGIN:VEVENT
DTSTAMP:20260424T213855Z
DTSTART:20231123T204500Z
DTEND:20231123T213000Z
SUMMARY:Parent and Tot Swims (Therapy Pool Only)
LOCATION:265 Cannifton Road, Belleville ON K8N 4V8
END:VEVENT
END:VCALENDAR
