BEGIN:VCALENDAR
VERSION:2.0
METHOD:PUBLISH
BEGIN:VEVENT
DTSTAMP:20260425T185422Z
DTSTART:20231123T190000Z
DTEND:20231123T200000Z
SUMMARY:Senior's Swim (TP Only)
LOCATION:265 Cannifton Rd., Belleville, ON K8N 4V8
END:VEVENT
END:VCALENDAR
