BEGIN:VCALENDAR
VERSION:2.0
METHOD:PUBLISH
BEGIN:VEVENT
DTSTAMP:20260422T093547Z
DTSTART:20231122T171500Z
DTEND:20231122T174500Z
SUMMARY:Cardio and Core
LOCATION:265 Cannifton Road, Belleville, ON
END:VEVENT
END:VCALENDAR
