BEGIN:VCALENDAR
VERSION:2.0
METHOD:PUBLISH
BEGIN:VEVENT
DTSTAMP:20260423T093048Z
DTSTART:20231121T230000Z
DTEND:20231122T000000Z
SUMMARY:Dancing for Adults - Beginner
LOCATION:265 Cannifton Road, Belleville, ON
END:VEVENT
END:VCALENDAR
