BEGIN:VCALENDAR
VERSION:2.0
METHOD:PUBLISH
BEGIN:VEVENT
DTSTAMP:20260423T231240Z
DTSTART:20231120T163000Z
DTEND:20231120T173000Z
SUMMARY:Line Dancing - Experienced
LOCATION:265 Cannifton Road, Belleville, ON
END:VEVENT
END:VCALENDAR
