BEGIN:VCALENDAR
VERSION:2.0
METHOD:PUBLISH
BEGIN:VEVENT
DTSTAMP:20260421T105042Z
DTSTART:20231119T153000Z
DTEND:20231119T180000Z
SUMMARY:Quinte Figure Skating Club Test Day 
LOCATION:265 Cannifton Road, Belleville, ON K8N 4V8
END:VEVENT
END:VCALENDAR
