BEGIN:VCALENDAR
VERSION:2.0
METHOD:PUBLISH
BEGIN:VEVENT
DTSTAMP:20260423T073952Z
DTSTART:20231116T220000Z
DTEND:20231117T000000Z
SUMMARY:Kitchen Crew (8 to 11 Years) NEW
LOCATION:265 Cannifton Road, Belleville, ON K8N 4V8
END:VEVENT
END:VCALENDAR
