BEGIN:VCALENDAR
VERSION:2.0
METHOD:PUBLISH
BEGIN:VEVENT
DTSTAMP:20260420T101804Z
DTSTART:20231116T154500Z
DTEND:20231116T173000Z
SUMMARY:Pickleball - Intermediate / Advanced
LOCATION:265 Cannifton Road, Belleville ON K8N 4V8
END:VEVENT
END:VCALENDAR
