BEGIN:VCALENDAR
VERSION:2.0
METHOD:PUBLISH
BEGIN:VEVENT
DTSTAMP:20260420T043817Z
DTSTART:20231115T221500Z
DTEND:20231116T000000Z
SUMMARY:Recreation Pickleball
LOCATION:265 Cannifton Road, Belleville ON K8N 4V8
END:VEVENT
END:VCALENDAR
