BEGIN:VCALENDAR
VERSION:2.0
METHOD:PUBLISH
BEGIN:VEVENT
DTSTAMP:20260425T162118Z
DTSTART:20231115T220000Z
DTEND:20231115T230000Z
SUMMARY:Science Explorers (4 to 8 Years)
LOCATION:265 Cannifton Road, Belleville, ON K8N 4V8
END:VEVENT
END:VCALENDAR
