BEGIN:VCALENDAR
VERSION:2.0
METHOD:PUBLISH
BEGIN:VEVENT
DTSTAMP:20260424T225920Z
DTSTART:20231112T190000Z
DTEND:20231112T220000Z
SUMMARY:Belleville Senators vs. Cleveland Monsters
LOCATION:265 Cannifton Road, Belleville, ON
END:VEVENT
END:VCALENDAR
