BEGIN:VCALENDAR
VERSION:2.0
METHOD:PUBLISH
BEGIN:VEVENT
DTSTAMP:20260420T201348Z
DTSTART:20231112T171500Z
DTEND:20231112T190000Z
SUMMARY:Family/Open Gym
LOCATION:265 Cannifton Road, Belleville, ON K8N 4V8
END:VEVENT
END:VCALENDAR
