BEGIN:VCALENDAR
VERSION:2.0
METHOD:PUBLISH
BEGIN:VEVENT
DTSTAMP:20260425T141123Z
DTSTART:20231111T130000Z
DTEND:20231112T030000Z
SUMMARY:Remembrance Day Special Schedule (no recreation programs, pool programs or city skating lessons)
LOCATION:265 Cannifton Road, Belleville, ON K8N 4V8
END:VEVENT
END:VCALENDAR
