BEGIN:VCALENDAR
VERSION:2.0
METHOD:PUBLISH
BEGIN:VEVENT
DTSTAMP:20260424T211636Z
DTSTART:20231111T000000Z
DTEND:20231111T030000Z
SUMMARY:Belleville Senators vs. Cleveland Monsters
LOCATION:265 Cannifton Road, Belleville, ON
END:VEVENT
END:VCALENDAR
