BEGIN:VCALENDAR
VERSION:2.0
METHOD:PUBLISH
BEGIN:VEVENT
DTSTAMP:20260423T105223Z
DTSTART:20231109T201500Z
DTEND:20231109T220000Z
SUMMARY:Family/Open Gym
LOCATION:265 Cannifton Road, Belleville, ON K8N 4V8
END:VEVENT
END:VCALENDAR
