BEGIN:VCALENDAR
VERSION:2.0
METHOD:PUBLISH
BEGIN:VEVENT
DTSTAMP:20260426T043343Z
DTSTART:20231109T180000Z
DTEND:20231109T210000Z
SUMMARY:Mah Jongg
LOCATION:265 Cannifton Road, Belleville, ON K8N 4V8
END:VEVENT
END:VCALENDAR
