BEGIN:VCALENDAR
VERSION:2.0
METHOD:PUBLISH
BEGIN:VEVENT
DTSTAMP:20260421T042233Z
DTSTART:20231109T150000Z
DTEND:20231109T170000Z
SUMMARY:Falls Prevention
LOCATION:265 Cannifton Road, Belleville, ON K8N 4V8
END:VEVENT
END:VCALENDAR
