BEGIN:VCALENDAR
VERSION:2.0
METHOD:PUBLISH
BEGIN:VEVENT
DTSTAMP:20260423T211314Z
DTSTART:20231108T233000Z
DTEND:20231109T003000Z
SUMMARY:Line Dancing - Experienced
LOCATION:265 Cannifton Road, Belleville, ON
END:VEVENT
END:VCALENDAR
