BEGIN:VCALENDAR
VERSION:2.0
METHOD:PUBLISH
BEGIN:VEVENT
DTSTAMP:20260422T070139Z
DTSTART:20231106T171500Z
DTEND:20231106T174500Z
SUMMARY:Cardio and Core
LOCATION:265 Cannifton Road, Belleville, ON
END:VEVENT
END:VCALENDAR
