BEGIN:VCALENDAR
VERSION:2.0
METHOD:PUBLISH
BEGIN:VEVENT
DTSTAMP:20260423T212051Z
DTSTART:20231106T163000Z
DTEND:20231106T173000Z
SUMMARY:Line Dancing - Experienced
LOCATION:265 Cannifton Road, Belleville, ON
END:VEVENT
END:VCALENDAR
