BEGIN:VCALENDAR
VERSION:2.0
METHOD:PUBLISH
BEGIN:VEVENT
DTSTAMP:20260424T092223Z
DTSTART:20231106T134500Z
DTEND:20231106T144500Z
SUMMARY:Learn to Speak French - Beginners "Restaurant Etiquette"
LOCATION:265 Cannifton Road, Belleville, ON K8N 4V8
END:VEVENT
END:VCALENDAR
